BEGIN:VCALENDAR
VERSION:2.0
PRODID:-//www.zipaquira.travel - ECPv6.15.9//NONSGML v1.0//EN
CALSCALE:GREGORIAN
METHOD:PUBLISH
X-WR-CALNAME:www.zipaquira.travel
X-ORIGINAL-URL:https://www.zipaquira.travel
X-WR-CALDESC:Eventos para www.zipaquira.travel
REFRESH-INTERVAL;VALUE=DURATION:PT1H
X-Robots-Tag:noindex
X-PUBLISHED-TTL:PT1H
BEGIN:VTIMEZONE
TZID:America/Bogota
BEGIN:STANDARD
TZOFFSETFROM:-0500
TZOFFSETTO:-0500
TZNAME:-05
DTSTART:20240101T000000
END:STANDARD
END:VTIMEZONE
BEGIN:VEVENT
DTSTART;TZID=America/Bogota:20251201T080000
DTEND;TZID=America/Bogota:20260112T170000
DTSTAMP:20260420T194544
CREATED:20251109T035959Z
LAST-MODIFIED:20251109T035959Z
UID:9424-1764576000-1768237200@www.zipaquira.travel
SUMMARY:Alumbrado Navideño en Zipaquirá
DESCRIPTION:Del 1 de diciembre de 2025 al 12 de enero de 2026\, la ciudad vivirá su tradicional alumbrado navideño\, llenando de color\, luz y alegría sus principales calles\, parques y plazas. Este evento\, que cada año atrae a miles de visitantes\, invita a disfrutar en familia de la magia de la temporada y del encanto propio de Zipaquirá.
URL:https://www.zipaquira.travel/eventos/alumbrado-navideno-en-zipaquira/
END:VEVENT
END:VCALENDAR