BEGIN:VCALENDAR
VERSION:2.0
PRODID:-//www.zipaquira.travel - ECPv6.15.9//NONSGML v1.0//EN
CALSCALE:GREGORIAN
METHOD:PUBLISH
X-ORIGINAL-URL:https://www.zipaquira.travel
X-WR-CALDESC:Eventos para www.zipaquira.travel
REFRESH-INTERVAL;VALUE=DURATION:PT1H
X-Robots-Tag:noindex
X-PUBLISHED-TTL:PT1H
BEGIN:VTIMEZONE
TZID:America/Bogota
BEGIN:STANDARD
TZOFFSETFROM:-0500
TZOFFSETTO:-0500
TZNAME:-05
DTSTART:20230101T000000
END:STANDARD
END:VTIMEZONE
BEGIN:VEVENT
DTSTART;TZID=America/Bogota:20240901T080000
DTEND;TZID=America/Bogota:20240901T170000
DTSTAMP:20260420T182103
CREATED:20240923T165855Z
LAST-MODIFIED:20240923T165912Z
UID:6410-1725177600-1725210000@www.zipaquira.travel
SUMMARY:MERCADOS CAMPESINOS
DESCRIPTION:Te invitamos a disfrutar de los mercados campesinos en Zipaquirá! Ven y descubre un mundo de sabores frescos y productos locales en la Plaza de los Comuneros\, donde se reúnen nuestros agricultores para ofrecerte lo mejor de sus cosechas. Apoya la producción local\, disfruta de frutas\, verduras\, lácteos y artesanías\, y vive una experiencia única que conecta a la comunidad. ¡Te esperamos para celebrar juntos la riqueza de nuestro campo!
URL:https://www.zipaquira.travel/eventos/mercados-campesinos-8/
LOCATION:Plaza de los Comuneros
END:VEVENT
BEGIN:VEVENT
DTSTART;TZID=America/Bogota:20240831T080000
DTEND;TZID=America/Bogota:20240831T170000
DTSTAMP:20260420T182103
CREATED:20240923T180904Z
LAST-MODIFIED:20240923T180904Z
UID:6435-1725091200-1725123600@www.zipaquira.travel
SUMMARY:REINADO DE LA SAL - EDAD DORADA
DESCRIPTION:Todos cordialmente invitados al Reinado de la Sal ‘Edad Dorada’\, donde honramos a nuestros adultos mayores con desfiles por las calles de Zipaquirá\, arte\, colores y alegría.
URL:https://www.zipaquira.travel/eventos/reinado-de-la-sal-edad-dorada/
END:VEVENT
BEGIN:VEVENT
DTSTART;TZID=America/Bogota:20240825T080000
DTEND;TZID=America/Bogota:20240825T163000
DTSTAMP:20260420T182103
CREATED:20240923T174852Z
LAST-MODIFIED:20240923T174852Z
UID:6433-1724572800-1724603400@www.zipaquira.travel
SUMMARY:CARRERA MARTIRES ZIPAQUIREÑOS
DESCRIPTION:Todo está listo para la realización de la Carrera Atlética “Mártires Zipaquireños”\, evento organizado por el Instituto Municipal de Cultura\, Recreación y Deporte de Zipaquirá (IMCRDZ) para promover la salud y la actividad física de los habitantes de ese municipio y de todos los cundinamarqueses. \nLa carrera cuenta con dos distancias\, cinco y diez kilómetros\, en nueve categorías. Durante el recorrido los participantes pasarán por varios lugares emblemáticos y por el centro histórico de la capital salinera de Colombia.
URL:https://www.zipaquira.travel/eventos/carrera-martires-zipaquirenos/
END:VEVENT
BEGIN:VEVENT
DTSTART;TZID=America/Bogota:20240804T080000
DTEND;TZID=America/Bogota:20240804T170000
DTSTAMP:20260420T182103
CREATED:20240923T165501Z
LAST-MODIFIED:20240923T165511Z
UID:6405-1722758400-1722790800@www.zipaquira.travel
SUMMARY:MERCADOS CAMPESINOS
DESCRIPTION:Te invitamos a disfrutar de los mercados campesinos en Zipaquirá! Ven y descubre un mundo de sabores frescos y productos locales en la Plaza de los Comuneros\, donde se reúnen nuestros agricultores para ofrecerte lo mejor de sus cosechas. Apoya la producción local\, disfruta de frutas\, verduras\, lácteos y artesanías\, y vive una experiencia única que conecta a la comunidad. ¡Te esperamos para celebrar juntos la riqueza de nuestro campo!
URL:https://www.zipaquira.travel/eventos/%f0%9f%93%8dmercados-campesinos/
LOCATION:Plaza de los Comuneros
END:VEVENT
BEGIN:VEVENT
DTSTART;VALUE=DATE:20240718
DTEND;VALUE=DATE:20240719
DTSTAMP:20260420T182103
CREATED:20240923T173303Z
LAST-MODIFIED:20240923T173622Z
UID:6428-1721260800-1721347199@www.zipaquira.travel
SUMMARY:CUMPLEAÑOS DE ZIPAQUIRÁ
DESCRIPTION:¡El municipio de Zipaquirá conmemora sus 488 años! Esta festividad buscan resaltar la identidad cultural de Zipaquirá\, promoviendo la participación de los ciudadanos. \nDurante toda la semana se realizan actividades para los ciudadanos y visitantes. Para mayor información puedes visitar https://www.zipaquira-cundinamarca.gov.co
URL:https://www.zipaquira.travel/eventos/cumpleanos-de-zipaquira/
END:VEVENT
BEGIN:VEVENT
DTSTART;TZID=America/Bogota:20240707T080000
DTEND;TZID=America/Bogota:20240707T170000
DTSTAMP:20260420T182103
CREATED:20240923T164700Z
LAST-MODIFIED:20240923T164700Z
UID:6403-1720339200-1720371600@www.zipaquira.travel
SUMMARY:MERCADOS CAMPESINOS
DESCRIPTION:Te invitamos a disfrutar de los mercados campesinos en Zipaquirá! Ven y descubre un mundo de sabores frescos y productos locales en la Plaza de los Comuneros\, donde se reúnen nuestros agricultores para ofrecerte lo mejor de sus cosechas. Apoya la producción local\, disfruta de frutas\, verduras\, lácteos y artesanías\, y vive una experiencia única que conecta a la comunidad. ¡Te esperamos para celebrar juntos la riqueza de nuestro campo!
URL:https://www.zipaquira.travel/eventos/mercados-campesinos-7/
LOCATION:Plaza de los Comuneros
END:VEVENT
BEGIN:VEVENT
DTSTART;VALUE=DATE:20240622
DTEND;VALUE=DATE:20240624
DTSTAMP:20260420T182103
CREATED:20240923T172334Z
LAST-MODIFIED:20240923T172451Z
UID:6424-1719014400-1719187199@www.zipaquira.travel
SUMMARY:FESTIVAL GASTRONÓMICO
DESCRIPTION:¡Te invitamos al Festival Gastronómico ‘Villa de la Sal’ 2024 en Zipaquirá! Ven a disfrutar de una deliciosa variedad de platos típicos y propuestas innovadoras de nuestra región. Este evento será un festín para los sentidos\, con música en vivo\, talleres y actividades para toda la familia. No te pierdas la oportunidad de saborear lo mejor de nuestra gastronomía y conocer a talentosos chefs locales. ¡Te esperamos para celebrar juntos la riqueza culinaria de Zipaquirá!
URL:https://www.zipaquira.travel/eventos/festival-gastronomico/
LOCATION:📍Parque de la Esperanza
END:VEVENT
BEGIN:VEVENT
DTSTART;TZID=America/Bogota:20240602T080000
DTEND;TZID=America/Bogota:20240602T170000
DTSTAMP:20260420T182103
CREATED:20240923T164531Z
LAST-MODIFIED:20240923T164531Z
UID:6401-1717315200-1717347600@www.zipaquira.travel
SUMMARY:MERCADOS CAMPESINOS
DESCRIPTION:Te invitamos a disfrutar de los mercados campesinos en Zipaquirá! Ven y descubre un mundo de sabores frescos y productos locales en la Plaza de los Comuneros\, donde se reúnen nuestros agricultores para ofrecerte lo mejor de sus cosechas. Apoya la producción local\, disfruta de frutas\, verduras\, lácteos y artesanías\, y vive una experiencia única que conecta a la comunidad. ¡Te esperamos para celebrar juntos la riqueza de nuestro campo!
URL:https://www.zipaquira.travel/eventos/mercados-campesinos-6/
LOCATION:Plaza de los Comuneros
END:VEVENT
BEGIN:VEVENT
DTSTART;TZID=America/Bogota:20240505T080000
DTEND;TZID=America/Bogota:20240505T170000
DTSTAMP:20260420T182103
CREATED:20240923T164449Z
LAST-MODIFIED:20240923T164449Z
UID:6399-1714896000-1714928400@www.zipaquira.travel
SUMMARY:MERCADOS CAMPESINOS
DESCRIPTION:Te invitamos a disfrutar de los mercados campesinos en Zipaquirá! Ven y descubre un mundo de sabores frescos y productos locales en la Plaza de los Comuneros\, donde se reúnen nuestros agricultores para ofrecerte lo mejor de sus cosechas. Apoya la producción local\, disfruta de frutas\, verduras\, lácteos y artesanías\, y vive una experiencia única que conecta a la comunidad. ¡Te esperamos para celebrar juntos la riqueza de nuestro campo!
URL:https://www.zipaquira.travel/eventos/mercados-campesinos-5/
LOCATION:Plaza de los Comuneros
END:VEVENT
BEGIN:VEVENT
DTSTART;TZID=America/Bogota:20240407T080000
DTEND;TZID=America/Bogota:20240407T170000
DTSTAMP:20260420T182103
CREATED:20240923T164343Z
LAST-MODIFIED:20240923T164402Z
UID:6397-1712476800-1712509200@www.zipaquira.travel
SUMMARY:MERCADOS CAMPESINOS
DESCRIPTION:Te invitamos a disfrutar de los mercados campesinos en Zipaquirá! Ven y descubre un mundo de sabores frescos y productos locales en la Plaza de los Comuneros\, donde se reúnen nuestros agricultores para ofrecerte lo mejor de sus cosechas. Apoya la producción local\, disfruta de frutas\, verduras\, lácteos y artesanías\, y vive una experiencia única que conecta a la comunidad. ¡Te esperamos para celebrar juntos la riqueza de nuestro campo!
URL:https://www.zipaquira.travel/eventos/mercados-campesinos-4/
LOCATION:Plaza de los Comuneros
END:VEVENT
BEGIN:VEVENT
DTSTART;VALUE=DATE:20240324
DTEND;VALUE=DATE:20240401
DTSTAMP:20260420T182103
CREATED:20240923T171110Z
LAST-MODIFIED:20240923T171215Z
UID:6419-1711238400-1711929599@www.zipaquira.travel
SUMMARY:SEMANA SANTA
DESCRIPTION:¡Te invitamos a vivir la Semana Santa en Zipaquirá! Ven y sé parte de esta hermosa tradición que llena nuestras calles de fe y espiritualidad. Disfruta de las tradicionales y emotivas procesiones nazarenas\, consideradas patrimonio cultural de la ciudad. Participa también de las diferentes ceremonias realizadas en la majestuosa Catedral de Sal y déjate envolver por el arte religioso.  \nNo te pierdas esta experiencia única de devoción y cultura que resalta la esencia de nuestra ciudad.  \n¡Zipaquirá te espera con los brazos abiertos!
URL:https://www.zipaquira.travel/eventos/semana-santa/
END:VEVENT
BEGIN:VEVENT
DTSTART;TZID=America/Bogota:20240303T080000
DTEND;TZID=America/Bogota:20240303T170000
DTSTAMP:20260420T182103
CREATED:20240923T164258Z
LAST-MODIFIED:20240923T164258Z
UID:6394-1709452800-1709485200@www.zipaquira.travel
SUMMARY:MERCADOS CAMPESINOS
DESCRIPTION:Te invitamos a disfrutar de los mercados campesinos en Zipaquirá! Ven y descubre un mundo de sabores frescos y productos locales en la Plaza de los Comuneros\, donde se reúnen nuestros agricultores para ofrecerte lo mejor de sus cosechas. Apoya la producción local\, disfruta de frutas\, verduras\, lácteos y artesanías\, y vive una experiencia única que conecta a la comunidad. ¡Te esperamos para celebrar juntos la riqueza de nuestro campo!
URL:https://www.zipaquira.travel/eventos/mercados-campesinos-3/
LOCATION:Plaza de los Comuneros
END:VEVENT
BEGIN:VEVENT
DTSTART;TZID=America/Bogota:20240204T080000
DTEND;TZID=America/Bogota:20240204T170000
DTSTAMP:20260420T182103
CREATED:20240923T164154Z
LAST-MODIFIED:20240923T164154Z
UID:6390-1707033600-1707066000@www.zipaquira.travel
SUMMARY:MERCADOS CAMPESINOS
DESCRIPTION:Te invitamos a disfrutar de los mercados campesinos en Zipaquirá! Ven y descubre un mundo de sabores frescos y productos locales en la Plaza de los Comuneros\, donde se reúnen nuestros agricultores para ofrecerte lo mejor de sus cosechas. Apoya la producción local\, disfruta de frutas\, verduras\, lácteos y artesanías\, y vive una experiencia única que conecta a la comunidad. ¡Te esperamos para celebrar juntos la riqueza de nuestro campo!
URL:https://www.zipaquira.travel/eventos/mercados-campesinos-2/
LOCATION:Plaza de los Comuneros
END:VEVENT
BEGIN:VEVENT
DTSTART;TZID=America/Bogota:20240114T080000
DTEND;TZID=America/Bogota:20240114T170000
DTSTAMP:20260420T182103
CREATED:20240923T163644Z
LAST-MODIFIED:20240923T163825Z
UID:6385-1705219200-1705251600@www.zipaquira.travel
SUMMARY:MERCADOS CAMPESINOS
DESCRIPTION:Te invitamos a disfrutar de los mercados campesinos en Zipaquirá! Ven y descubre un mundo de sabores frescos y productos locales en la Plaza de los Comuneros\, donde se reúnen nuestros agricultores para ofrecerte lo mejor de sus cosechas. Apoya la producción local\, disfruta de frutas\, verduras\, lácteos y artesanías\, y vive una experiencia única que conecta a la comunidad. ¡Te esperamos para celebrar juntos la riqueza de nuestro campo!
URL:https://www.zipaquira.travel/eventos/mercados-campesinos/
LOCATION:Plaza de los Comuneros
END:VEVENT
END:VCALENDAR