BEGIN:VCALENDAR
VERSION:2.0
PRODID:-//www.zipaquira.travel - ECPv6.15.9//NONSGML v1.0//EN
CALSCALE:GREGORIAN
METHOD:PUBLISH
X-ORIGINAL-URL:https://www.zipaquira.travel
X-WR-CALDESC:Eventos para www.zipaquira.travel
REFRESH-INTERVAL;VALUE=DURATION:PT1H
X-Robots-Tag:noindex
X-PUBLISHED-TTL:PT1H
BEGIN:VTIMEZONE
TZID:America/Bogota
BEGIN:STANDARD
TZOFFSETFROM:-0500
TZOFFSETTO:-0500
TZNAME:-05
DTSTART:20240101T000000
END:STANDARD
END:VTIMEZONE
BEGIN:VEVENT
DTSTART;TZID=America/Bogota:20250927T080000
DTEND;TZID=America/Bogota:20250927T170000
DTSTAMP:20260420T233105
CREATED:20240923T182204Z
LAST-MODIFIED:20251014T050542Z
UID:6442-1758960000-1758992400@www.zipaquira.travel
SUMMARY:DÍA DEL TURISMO 2025
DESCRIPTION:Visita Zipaquirá y celebra con nosotros el Día del Turismo. Vive una experiencia inolvidable en la impresionante Catedral de Sal\, un verdadero símbolo del ingenio humano\, y explora su rica historia cultural en las encantadoras calles coloniales. La región también ofrece hermosos paisajes andinos y la oportunidad de deleitarte con su deliciosa gastronomía local.
URL:https://www.zipaquira.travel/eventos/dia-del-turismo/
END:VEVENT
END:VCALENDAR