BEGIN:VCALENDAR
VERSION:2.0
PRODID:-//www.zipaquira.travel - ECPv6.15.9//NONSGML v1.0//EN
CALSCALE:GREGORIAN
METHOD:PUBLISH
X-WR-CALNAME:www.zipaquira.travel
X-ORIGINAL-URL:https://www.zipaquira.travel
X-WR-CALDESC:Eventos para www.zipaquira.travel
REFRESH-INTERVAL;VALUE=DURATION:PT1H
X-Robots-Tag:noindex
X-PUBLISHED-TTL:PT1H
BEGIN:VTIMEZONE
TZID:America/Bogota
BEGIN:STANDARD
TZOFFSETFROM:-0500
TZOFFSETTO:-0500
TZNAME:-05
DTSTART:20240101T000000
END:STANDARD
END:VTIMEZONE
BEGIN:VEVENT
DTSTART;TZID=America/Bogota:20251012T080000
DTEND;TZID=America/Bogota:20251012T170000
DTSTAMP:20260420T213253
CREATED:20240913T170032Z
LAST-MODIFIED:20251014T045752Z
UID:6412-1760256000-1760288400@www.zipaquira.travel
SUMMARY:MERCADOS CAMPESINOS  - OCTUBRE
DESCRIPTION:Te invitamos a disfrutar de los mercados campesinos en Zipaquirá! Ven y descubre un mundo de sabores frescos y productos locales en la Plaza de los Comuneros\, donde se reúnen nuestros agricultores para ofrecerte lo mejor de sus cosechas. Apoya la producción local\, disfruta de frutas\, verduras\, lácteos y artesanías\, y vive una experiencia única que conecta a la comunidad. ¡Te esperamos para celebrar juntos la riqueza de nuestro campo!
URL:https://www.zipaquira.travel/eventos/mercados-campesinos-9/
LOCATION:Plaza de los Comuneros
END:VEVENT
BEGIN:VEVENT
DTSTART;VALUE=DATE:20251031
DTEND;VALUE=DATE:20251101
DTSTAMP:20260420T213253
CREATED:20251031T050029Z
LAST-MODIFIED:20251014T041703Z
UID:6457-1761868800-1761955199@www.zipaquira.travel
SUMMARY:DÍA DEL DULCE
DESCRIPTION:Para mayor información puedes visitar www.zipaquira-cundinamarca.gov.co
URL:https://www.zipaquira.travel/eventos/dia-del-dulce/
END:VEVENT
BEGIN:VEVENT
DTSTART;TZID=America/Bogota:20251031T150000
DTEND;TZID=America/Bogota:20251031T190000
DTSTAMP:20260420T213253
CREATED:20251104T155234Z
LAST-MODIFIED:20251104T160832Z
UID:9397-1761922800-1761937200@www.zipaquira.travel
SUMMARY:Show musical Corazón Mágico
DESCRIPTION:La Alcaldía de Zipaquirá invita a todos los niños y niñas a disfrutar del show musical Corazón Mágico totalmente gratis. \nUn espectáculo lleno de música\, color y diversión para compartir en familia. \nLugar: Coliseo Arena de la Sal \nHorarios: 3:00 p.m. | 4:30 p.m. | 6:00 p.m. \n¡Pueden asistir a cualquiera de las funciones! \n#Zipaquirá #CorazónMágico #DíaDeLosNiños #FamiliaZipaquireña #ArenaDeLaSal
URL:https://www.zipaquira.travel/eventos/show-musical-corazon-magico/
LOCATION:Coliseo Arena de la Sal\, Cl. 4 #17-136\, Zipaquirá\, Colombia
END:VEVENT
END:VCALENDAR