BEGIN:VCALENDAR
VERSION:2.0
PRODID:-//www.zipaquira.travel - ECPv6.15.9//NONSGML v1.0//EN
CALSCALE:GREGORIAN
METHOD:PUBLISH
X-ORIGINAL-URL:https://www.zipaquira.travel
X-WR-CALDESC:Eventos para www.zipaquira.travel
REFRESH-INTERVAL;VALUE=DURATION:PT1H
X-Robots-Tag:noindex
X-PUBLISHED-TTL:PT1H
BEGIN:VTIMEZONE
TZID:America/Bogota
BEGIN:STANDARD
TZOFFSETFROM:-0500
TZOFFSETTO:-0500
TZNAME:-05
DTSTART:20240101T000000
END:STANDARD
END:VTIMEZONE
BEGIN:VEVENT
DTSTART;TZID=America/Bogota:20251102T080000
DTEND;TZID=America/Bogota:20251102T170000
DTSTAMP:20260420T194947
CREATED:20240923T170110Z
LAST-MODIFIED:20251014T045509Z
UID:6414-1762070400-1762102800@www.zipaquira.travel
SUMMARY:MERCADOS CAMPESINOS - NOVIEMBRE
DESCRIPTION:Te invitamos a disfrutar de los mercados campesinos en Zipaquirá! Ven y descubre un mundo de sabores frescos y productos locales en la Plaza de los Comuneros\, donde se reúnen nuestros agricultores para ofrecerte lo mejor de sus cosechas. Apoya la producción local\, disfruta de frutas\, verduras\, lácteos y artesanías\, y vive una experiencia única que conecta a la comunidad. ¡Te esperamos para celebrar juntos la riqueza de nuestro campo!
URL:https://www.zipaquira.travel/eventos/mercados-campesinos-10/
LOCATION:Plaza de los Comuneros
END:VEVENT
BEGIN:VEVENT
DTSTART;TZID=America/Bogota:20251129T060000
DTEND;TZID=America/Bogota:20251129T160000
DTSTAMP:20260420T194947
CREATED:20251109T034401Z
LAST-MODIFIED:20251109T034401Z
UID:9421-1764396000-1764432000@www.zipaquira.travel
SUMMARY:Carrera de la Mujer 2025
DESCRIPTION:Zipaquirá llevará a cabo la Carrera de la Mujer 2025 el sábado 29 de noviembre\, en el marco del cierre del mes de conmemoración contra la violencia hacia la mujer. Una celebración del movimiento\, la fuerza colectiva y el poder femenino. Será una jornada donde la ciudad se viste de energía\, colores\, pasos firmes y voces que inspiran.
URL:https://www.zipaquira.travel/eventos/carrera-de-la-mujer-2025/
END:VEVENT
END:VCALENDAR